BEGIN:VCALENDAR
VERSION:2.0
PRODID:-//CSI Crandic Chapter - ECPv6.15.1.1//NONSGML v1.0//EN
CALSCALE:GREGORIAN
METHOD:PUBLISH
X-ORIGINAL-URL:https://crandiccsi.org
X-WR-CALDESC:Events for CSI Crandic Chapter
REFRESH-INTERVAL;VALUE=DURATION:PT1H
X-Robots-Tag:noindex
X-PUBLISHED-TTL:PT1H
BEGIN:VTIMEZONE
TZID:UTC
BEGIN:STANDARD
TZOFFSETFROM:+0000
TZOFFSETTO:+0000
TZNAME:UTC
DTSTART:20170101T000000
END:STANDARD
END:VTIMEZONE
BEGIN:VTIMEZONE
TZID:America/Chicago
BEGIN:DAYLIGHT
TZOFFSETFROM:-0600
TZOFFSETTO:-0500
TZNAME:CDT
DTSTART:20190310T080000
END:DAYLIGHT
BEGIN:STANDARD
TZOFFSETFROM:-0500
TZOFFSETTO:-0600
TZNAME:CST
DTSTART:20191103T070000
END:STANDARD
END:VTIMEZONE
BEGIN:VEVENT
DTSTART;TZID=UTC:20190319T173000
DTEND;TZID=UTC:20190319T193000
DTSTAMP:20260423T193248
CREATED:20190311T202003Z
LAST-MODIFIED:20190311T202003Z
UID:259-1553016600-1553023800@crandiccsi.org
SUMMARY:March Chapter Event
DESCRIPTION:Program:  FreMarq Innovations Product Specifier \nFreMarq is an innovative architectural aluminum company located in Wausau\, WI.  The mission of FreMarq Innovations is to reduce a building’s energy consumption\, which leads to a reduced carbon footprint\, lower operating cost\, and increased comfort and well-being for its occupants.  This is accomplished by a patented framing system for both new construction and retrofit.  FreMarq provides a custom system to its customer\, which is designed for the building’s location\, its use\, and customer’s desires. \nPresenter:  Doug Laffin\, Estimating Manager \nDoug has been involved in the aluminum curtain wall and storefront framing industry for many years\, he lives in Wausau\, WI.  Doug will be giving us a newly updated presentation focused on how to specify FreMarq’s products.  This presentation will be a high level overview of what the systems are\, including the product’s Energy efficacy benefits.
URL:https://crandiccsi.org/event/march-chapter-event-2/
LOCATION:Red’s Alehouse\, 405 North Dubuque Street\, North Liberty\, IA\, 52317\, United States
CATEGORIES:Monthly Meetings
ORGANIZER;CN="Daryl Robinson":MAILTO:drobinson@neumannmonson.com
END:VEVENT
BEGIN:VEVENT
DTSTART;TZID=America/Chicago:20190115T173000
DTEND;TZID=America/Chicago:20190115T193000
DTSTAMP:20260423T193248
CREATED:20190108T231843Z
LAST-MODIFIED:20190109T191401Z
UID:251-1547573400-1547580600@crandiccsi.org
SUMMARY:January Chapter Meeting
DESCRIPTION:Program:  James Hardie Building Products\, Inc. \n“History of James Hardie and ‘The Why’ behind Fiber Cement Panels”  Engineered for climate cladding and the benefits for building projects.  The importance of rainscreen cladding systems and how it relates to James Hardie’s exteriors. \nPresenter:  Nick Hlas\, Eastern Iowa Sales Representative \nNick consults with construction industry professionals on installation best practices\, design elements\, and procurement of products.  Prior to joining James Hardie\,  he managed a subcontracting firm in Eastern Iowa specializing in thermal envelopes\, gypsum underlayments\, and applied fireproofing.
URL:https://crandiccsi.org/event/january-chapter-meeting-2/
LOCATION:Red’s Alehouse\, 405 North Dubuque Street\, North Liberty\, IA\, 52317\, United States
CATEGORIES:Monthly Meetings
ORGANIZER;CN="Daryl Robinson":MAILTO:drobinson@neumannmonson.com
END:VEVENT
BEGIN:VEVENT
DTSTART;TZID=UTC:20181120T173000
DTEND;TZID=UTC:20181120T193000
DTSTAMP:20260423T193248
CREATED:20180622T193434Z
LAST-MODIFIED:20180622T194652Z
UID:218-1542735000-1542742200@crandiccsi.org
SUMMARY:November Chapter Meeting
DESCRIPTION:Topic to be determined
URL:https://crandiccsi.org/event/november-chapter-meeting-2/
LOCATION:Red’s Alehouse\, 405 North Dubuque Street\, North Liberty\, IA\, 52317\, United States
CATEGORIES:Monthly Meetings
ORGANIZER;CN="Daryl Robinson":MAILTO:drobinson@neumannmonson.com
END:VEVENT
BEGIN:VEVENT
DTSTART;TZID=UTC:20181023T173000
DTEND;TZID=UTC:20181023T193000
DTSTAMP:20260423T193248
CREATED:20180622T193320Z
LAST-MODIFIED:20181008T204529Z
UID:216-1540315800-1540323000@crandiccsi.org
SUMMARY:October Chapter Meeting
DESCRIPTION:Mass Timber Revitalization \nCourse Description:  This course aims to demonstrate the environmental benefits of mass timber in comparison to other building materials.  The design and construction process will be presented through the use of a case study local to Des Moines\, IA. \nLearning Objectives: \n\nDiscuss material harvesting / material fabrication of mass timber.\nShow the benefits of mass timber design & construction process.\nUnderstand mass timber’s applicability with current building codes.\nUnderstand the long-term benefits of a mass timber building.
URL:https://crandiccsi.org/event/october-chapter-meeting-2/
LOCATION:Red’s Alehouse\, 405 North Dubuque Street\, North Liberty\, IA\, 52317\, United States
CATEGORIES:Monthly Meetings
ORGANIZER;CN="Daryl Robinson":MAILTO:drobinson@neumannmonson.com
END:VEVENT
BEGIN:VEVENT
DTSTART;TZID=UTC:20180918T173000
DTEND;TZID=UTC:20180918T193000
DTSTAMP:20260423T193248
CREATED:20180622T194555Z
LAST-MODIFIED:20180910T155016Z
UID:214-1537291800-1537299000@crandiccsi.org
SUMMARY:September Chapter Meeting
DESCRIPTION:Program:  “A Few Things We’ve Learned in 40 Years of Single Ply Roofing” \nIt is time to resume our monthly Crandic Chapter Meetings on the Third Tuesday of the month!  This month\, we will have a special presentation from one of the newest members of our Chapter\, Chris M. Demro\, of Luna & Associates.  Chris will focus on presenting some of the changes and advancements made in the single ply roofing industry\, including edge metal\, adhesives\, moisture infiltration\, and vapor barriers. \nSpeaker:  Chris M. Demro\, Sales Representative\, Luna & Associates \nChris was born and raised in northeast IA.  He attended Cornell College in Mt. Vernon\, where he studied business and psychology.  After graduating\, Chris worked in finance for a year before starting with Carlisle SynTec\, Inc. as an Inspector in Chicago.  After a few years\, Chris took a position in Pricing and Analytics at the SynTec headquarters in Carlisle\, PA\, followed by returning to the Midwest for a regional role with a foot in both the technical and sales channels for Carlisle.  In April of this year\, Chris took the opportunity to come on board with Luna & Associates\, the local rep group\, and moved back home to Iowa.  Luna & Associates was formed in 2011 to serve as independent sales representatives for Carlisle SynTec\, Inc.  The organization operates in the Midwestern territories\, covering Missouri\, Southern Illinois\, Kansas\, Iowa\, and Nebraska.
URL:https://crandiccsi.org/event/september-chapter-meeting-2/
LOCATION:Red’s Alehouse\, 405 North Dubuque Street\, North Liberty\, IA\, 52317\, United States
CATEGORIES:Monthly Meetings
ORGANIZER;CN="Daryl Robinson":MAILTO:drobinson@neumannmonson.com
END:VEVENT
BEGIN:VEVENT
DTSTART;TZID=UTC:20180419T173000
DTEND;TZID=UTC:20180419T193000
DTSTAMP:20260423T193248
CREATED:20180409T163011Z
LAST-MODIFIED:20180622T194741Z
UID:203-1524159000-1524166200@crandiccsi.org
SUMMARY:April Chapter Event
DESCRIPTION:Program:  Protection with Safety and Security Window Films \nHow Safety and Security Film can protect you from Bomb Blast\, Breaking and Entering\, Safety Glazing and Human Impact\, and Seismic and Spontaneous Glass Breakage.  We have been receiving numerous calls from schools since the latest tragedy in Florida. \nSpeaker:  Dan Borowski\, Territory Manager\, Midwest Region\, 3M \nDan has been involved in the construction industry for many years in his career dealing with acoustics\, steel framing\, insulation\, polymers\, the building envelope\, and fenestration. \n 
URL:https://crandiccsi.org/event/april-chapter-event/
LOCATION:Red’s Alehouse\, 405 North Dubuque Street\, North Liberty\, IA\, 52317\, United States
CATEGORIES:Monthly Meetings
ORGANIZER;CN="Daryl Robinson":MAILTO:drobinson@neumannmonson.com
END:VEVENT
BEGIN:VEVENT
DTSTART;TZID=UTC:20180320T173000
DTEND;TZID=UTC:20180320T193000
DTSTAMP:20260423T193248
CREATED:20180212T164618Z
LAST-MODIFIED:20180220T220815Z
UID:193-1521567000-1521574200@crandiccsi.org
SUMMARY:March Chapter Event
DESCRIPTION:Insulated Next Generation Concrete Masonry – Better & Faster For Less Money \nArchitects\, mechanical engineers\, and some building officials frequently misinterpret one critical sentence that first appeared in the 2003 IECC; thus\, they incorrectly conclude that energy code compliance mandates continuous insulation (“ci”) and fail to grasp the concept of continuous thermal mass. COMCheck is used by most architects in most states to demonstrate energy code compliance for most commercial building designs.  Building designs too often fail to pass COMCheck because architects fail to override the software’s very conservative embedded default values.  Two changes to ASTM C90\, adopted in 2011 and 2014 respectively\, enable concrete block producers to offer “Next Generation” CMU that can be installed faster using less steel rebar while providing for more energy efficient masonry buildings.  This course 1) corrects the critical misinterpretation\, 2) facilitates more easily passing COMCheck\, and 3) introduces design professionals to the benefits of “Next Generation” concrete masonry. \nLearning Units:  1.0 hour H/S/W LU Credit \nPresenter:  Kevin Cavanaugh\, Midwest Representative\, cfiFOAM\, Inc. \nWhile earning his BSME at the University of Maryland\, Kevin interned at the National Institute of Standards & Technology where he first became involved with the concrete masonry industry.  After graduation\, Kevin accepted a position as the National Concrete Masonry Association’s (NCMA) Energy Engineer before launching his 30-year career in technical sales\, marketing\, and product development of lightweight aggregate\, concrete masonry\, and associated products and systems.  Kevin’s industry-wide activities include serving on\, or chairing\, ACI and NCMA technical and marketing committees and serving on the Governor’s Legislative Advisory Council in Wisconsin.  With his wife and three children\, Kevin resides in Mequon\, Wisconsin.
URL:https://crandiccsi.org/event/march-chapter-event/
LOCATION:Red’s Alehouse\, 405 North Dubuque Street\, North Liberty\, IA\, 52317\, United States
CATEGORIES:Monthly Meetings
END:VEVENT
BEGIN:VEVENT
DTSTART;TZID=UTC:20180220T173000
DTEND;TZID=UTC:20180220T193000
DTSTAMP:20260423T193248
CREATED:20180118T214711Z
LAST-MODIFIED:20180209T161435Z
UID:184-1519147800-1519155000@crandiccsi.org
SUMMARY:February Chapter Meeting
DESCRIPTION:2017 Legislative Changes Impacting Local Governments Construction Projects in Iowa \nThe new and current laws in the State of Iowa that affect public bidding requirements and contract documents will be presented by Kale D. Knisley.  He will discuss laws that are important to and have impact upon public improvement construction projects. \nHe will discuss the following topics: \n\nbanning Project Labor Agreements (PLAs).\nbanning bidder pre-qualifications.\nreduction in the statute of repose.\nProfessional Services exemptions to public bidding requirements.\nState preference law.\nElectronic Bid notices.\nDavis-Bacon requirements under new bill regarding state funding versus federal funding.\nchanges to the way TIF is used.\n\nAbout the Presenter – Kale D. Knisley \nKale is the assistant corporate counsel for the global engineering firm of Stanley Consultants Inc.   In this position\, he is responsible for providing review\, oversight\, and negotiation of client contracts and subcontracts\, and assists in managing litigation and provides broad corporate legal services to the company and its subsidiaries.  Kale is a graduate of Grinnell College of (B.A.) and Drake University (Juris Doctorate).
URL:https://crandiccsi.org/event/february-chapter-meeting/
LOCATION:Beer Burger\, 575 Cameron Way\, North Liberty\, IA\, 52317\, United States
CATEGORIES:Monthly Meetings
END:VEVENT
BEGIN:VEVENT
DTSTART;TZID=UTC:20180117T180000
DTEND;TZID=UTC:20180117T193000
DTSTAMP:20260423T193248
CREATED:20171228T152653Z
LAST-MODIFIED:20180209T161302Z
UID:181-1516212000-1516217400@crandiccsi.org
SUMMARY:January Chapter Meeting
DESCRIPTION:Program:  High Performance Building Envelopes \nThis session is designed for architects and other design and construction professionals interested in increasing their knowledge of the application and use of air barriers in the building envelopes of commercial and multi-family residential buildings.  Researchers\, architects\, and code writers have shown that attention to specific details in both new and retrofitted envelopes result in better performing buildings with better comfort and long durability as well as lower energy consumption. \nAir leakage through the building envelope is silent\, invisible\, and cunning.  It causes numerous building envelope problems\, including wetting of cavity materials\, spalling of masonry\, premature corrosion of metals\, blistering of paint\, icicles\, and staining of contraction.  Continuity is important but strength is even more important. \nIn buildings\, the air barrier system must be designed\, and specified on plans.  It has specific performance criteria and specific material requirements. \nPresenter:  Steve Tratt\, National Sales Manager\, Canam Building Envelope Specialists \nSteve Tratt has over 26 years of experience in the building envelope air barrier industry\, including expertise in air leakage testing and weatherization materials.  He has worked extensively in the custom design of building science solutions for the education\, healthcare\, commercial\, and government markets.  His material expertise includes two-component polyurethane foam insulating air sealants\, door and window weather‐stripping\, fire-stopping systems\, and air tightness testing equipment.  Steve has trained building envelope retrofit contractors in both Canada and the United States and has made numerous presentations to a wide variety of trade associations.  Currently Steve is involved in organizing and presenting air barrier seminars for architects and engineers.
URL:https://crandiccsi.org/event/january-chapter-meeting/
LOCATION:Gus’ Food & Spirits\, 2421 Coral Court\, Coralville\, IA\, 52241\, United States
CATEGORIES:Monthly Meetings
END:VEVENT
BEGIN:VEVENT
DTSTART;TZID=UTC:20171121T173000
DTEND;TZID=UTC:20171121T193000
DTSTAMP:20260423T193248
CREATED:20171026T181234Z
LAST-MODIFIED:20180209T161410Z
UID:168-1511285400-1511292600@crandiccsi.org
SUMMARY:November Chapter Meeting
DESCRIPTION:Please plan on attending our next Chapter meeting.  We will have a presentation about Architectural Roof and Floor Decks by Epic Metals Corporation.
URL:https://crandiccsi.org/event/november-chapter-meeting/
LOCATION:Ledi Family Restaurant\, 125 East Zeller Street\, North Liberty\, IA\, 52317
CATEGORIES:Monthly Meetings
ORGANIZER;CN="Daryl Robinson":MAILTO:drobinson@neumannmonson.com
END:VEVENT
BEGIN:VEVENT
DTSTART;TZID=UTC:20171017T180000
DTEND;TZID=UTC:20171017T193000
DTSTAMP:20260423T193248
CREATED:20170928T200027Z
LAST-MODIFIED:20171012T025907Z
UID:115-1508263200-1508268600@crandiccsi.org
SUMMARY:October Chapter Meeting
DESCRIPTION:Join the chapter in discussing recent news and network with fellow professionals in related fields. \nProgram Topic:  Fluid-Applied Silicone Air and Water Barriers \nThis presentation will focus on the use of silicone in fluid-applied air and water barrier systems.  Topics will cover why to use and consider silicone materials for air and water barriers; the benefits of using silicone compared to other material types; how silicone systems should be installed; and comparisons to other material systems\, including case studies.  1 Hour LU/HSW Continuing Education Credit will be available for attendees. \nPresenter:  Wesley Sherrer\, CSI – Midwest Region Senior Manager\, Momentive Performance Materials
URL:https://crandiccsi.org/event/october-chapter-meeting/
LOCATION:Ledi Family Restaurant\, 125 East Zeller Street\, North Liberty\, IA\, 52317
CATEGORIES:Monthly Meetings
END:VEVENT
END:VCALENDAR